Package: gypsum Version: 1.2.0 Command: /home/biocbuild/R/R/bin/R CMD build --keep-empty-dirs --no-resave-data gypsum StartedAt: 2025-02-04 00:12:44 -0000 (Tue, 04 Feb 2025) EndedAt: 2025-02-04 00:12:57 -0000 (Tue, 04 Feb 2025) EllapsedTime: 13.0 seconds RetCode: 0 Status: OK PackageFile: gypsum_1.2.0.tar.gz PackageFileSize: 298.9 KiB