Package: h5vc Version: 2.40.1 Command: rm -rf h5vc.buildbin-libdir && mkdir h5vc.buildbin-libdir && /Users/biocbuild/BBS/utils/build-universal.sh h5vc_2.40.1.tar.gz /Library/Frameworks/R.framework/Resources/bin/R h5vc.buildbin-libdir StartedAt: 2025-02-05 16:10:34 -0500 (Wed, 05 Feb 2025) EndedAt: 2025-02-05 16:11:01 -0500 (Wed, 05 Feb 2025) EllapsedTime: 26.3 seconds RetCode: 0 Status: OK PackageFile: h5vc_2.40.1.tgz PackageFileSize: 2.06 MiB