Package: h5vc Version: 2.40.1 Command: /Library/Frameworks/R.framework/Resources/bin/R CMD build --keep-empty-dirs --no-resave-data h5vc StartedAt: 2025-02-04 01:14:09 -0500 (Tue, 04 Feb 2025) EndedAt: 2025-02-04 01:19:35 -0500 (Tue, 04 Feb 2025) EllapsedTime: 326.3 seconds RetCode: 0 Status: OK PackageFile: h5vc_2.40.1.tar.gz PackageFileSize: 1.69 MiB