Package: h5vc Version: 2.40.1 Command: /Library/Frameworks/R.framework/Resources/bin/R CMD INSTALL h5vc StartedAt: 2025-02-03 16:13:32 -0500 (Mon, 03 Feb 2025) EndedAt: 2025-02-03 16:13:55 -0500 (Mon, 03 Feb 2025) EllapsedTime: 23.4 seconds RetCode: 0 Status: OK