Package: h5vc Version: 2.40.0 Command: /Library/Frameworks/R.framework/Resources/bin/R CMD INSTALL h5vc StartedAt: 2024-11-08 15:22:40 -0500 (Fri, 08 Nov 2024) EndedAt: 2024-11-08 15:22:48 -0500 (Fri, 08 Nov 2024) EllapsedTime: 7.5 seconds RetCode: 0 Status: OK