Package: h5vc
Version: 2.39.0
Command: chmod a+r h5vc -R && F:\biocbuild\bbs-3.20-bioc\R\bin\R.exe CMD build --keep-empty-dirs --no-resave-data h5vc
StartedAt: 2024-06-09 19:31:59 -0400 (Sun, 09 Jun 2024)
EndedAt: 2024-06-09 19:34:20 -0400 (Sun, 09 Jun 2024)
EllapsedTime: 141.0 seconds
RetCode: 0
Status: OK
PackageFile: h5vc_2.39.0.tar.gz
PackageFileSize: 1.069 <A href="http://en.wikipedia.org/wiki/MiB" target="_blank">MiB</A>