Package: h5vc Version: 2.40.1 Command: chmod a+r h5vc -R && F:\biocbuild\bbs-3.20-bioc\R\bin\R.exe CMD build --keep-empty-dirs --no-resave-data h5vc StartedAt: 2025-02-03 19:41:09 -0500 (Mon, 03 Feb 2025) EndedAt: 2025-02-03 19:43:09 -0500 (Mon, 03 Feb 2025) EllapsedTime: 119.7 seconds RetCode: 0 Status: OK PackageFile: h5vc_2.40.1.tar.gz PackageFileSize: 1.069 MiB