Package: h5vc Version: 2.40.1 Command: /home/biocbuild/R/R/bin/R CMD INSTALL h5vc StartedAt: 2025-02-03 20:47:03 -0000 (Mon, 03 Feb 2025) EndedAt: 2025-02-03 20:47:27 -0000 (Mon, 03 Feb 2025) EllapsedTime: 24.1 seconds RetCode: 0 Status: OK