Package: hca Version: 1.14.0 Command: /Library/Frameworks/R.framework/Resources/bin/R CMD INSTALL hca StartedAt: 2025-01-30 16:50:12 -0500 (Thu, 30 Jan 2025) EndedAt: 2025-01-30 16:50:20 -0500 (Thu, 30 Jan 2025) EllapsedTime: 7.4 seconds RetCode: 0 Status: OK