Package: hca Version: 1.14.0 Command: /Library/Frameworks/R.framework/Resources/bin/R CMD build --keep-empty-dirs --no-resave-data hca StartedAt: 2025-01-30 19:44:40 -0500 (Thu, 30 Jan 2025) EndedAt: 2025-01-30 19:56:59 -0500 (Thu, 30 Jan 2025) EllapsedTime: 739.1 seconds RetCode: 0 Status: OK PackageFile: hca_1.14.0.tar.gz PackageFileSize: 488.5 KiB