Package: hca Version: 1.14.0 Command: rm -rf hca.buildbin-libdir && mkdir hca.buildbin-libdir && F:\biocbuild\bbs-3.20-bioc\R\bin\R.exe CMD INSTALL --build --library=hca.buildbin-libdir hca_1.14.0.tar.gz StartedAt: 2025-01-31 08:49:00 -0500 (Fri, 31 Jan 2025) EndedAt: 2025-01-31 08:49:27 -0500 (Fri, 31 Jan 2025) EllapsedTime: 27.1 seconds RetCode: 0 Status: OK PackageFile: hca_1.14.0.zip PackageFileSize: 598.9 KiB