Package: hca Version: 1.14.0 Command: F:\biocbuild\bbs-3.20-bioc\R\bin\R.exe CMD INSTALL hca StartedAt: 2025-01-30 15:51:36 -0500 (Thu, 30 Jan 2025) EndedAt: 2025-01-30 15:51:59 -0500 (Thu, 30 Jan 2025) EllapsedTime: 23.6 seconds RetCode: 0 Status: OK