Package: hca Version: 1.14.0 Command: /home/biocbuild/R/R/bin/R CMD build --keep-empty-dirs --no-resave-data hca StartedAt: 2025-01-31 00:14:23 -0000 (Fri, 31 Jan 2025) EndedAt: 2025-01-31 00:17:32 -0000 (Fri, 31 Jan 2025) EllapsedTime: 188.2 seconds RetCode: 0 Status: OK PackageFile: hca_1.14.0.tar.gz PackageFileSize: 538 KiB