Package: hca Version: 1.14.0 Command: /home/biocbuild/R/R/bin/R CMD check --install=check:hca.install-out.txt --library=/home/biocbuild/R/R/site-library --no-vignettes --timings hca_1.14.0.tar.gz StartedAt: 2025-01-31 07:02:57 -0000 (Fri, 31 Jan 2025) EndedAt: 2025-01-31 07:06:44 -0000 (Fri, 31 Jan 2025) EllapsedTime: 226.2 seconds RetCode: 0 Status: OK CheckDir: hca.Rcheck Warnings: 0