Package: heatmaps Version: 1.30.0 Command: rm -rf heatmaps.buildbin-libdir && mkdir heatmaps.buildbin-libdir && /Users/biocbuild/BBS/utils/build-universal.sh heatmaps_1.30.0.tar.gz /Library/Frameworks/R.framework/Resources/bin/R heatmaps.buildbin-libdir StartedAt: 2025-02-01 15:15:24 -0500 (Sat, 01 Feb 2025) EndedAt: 2025-02-01 15:15:47 -0500 (Sat, 01 Feb 2025) EllapsedTime: 23.7 seconds RetCode: 0 Status: OK PackageFile: heatmaps_1.30.0.tgz PackageFileSize: 8.996 MiB