Package: heatmaps Version: 1.30.0 Command: /Library/Frameworks/R.framework/Resources/bin/R CMD check --install=check:heatmaps.install-out.txt --library=/Library/Frameworks/R.framework/Resources/library --no-vignettes --timings heatmaps_1.30.0.tar.gz StartedAt: 2025-01-31 21:43:06 -0500 (Fri, 31 Jan 2025) EndedAt: 2025-01-31 21:45:33 -0500 (Fri, 31 Jan 2025) EllapsedTime: 146.5 seconds RetCode: 0 Status: OK CheckDir: heatmaps.Rcheck Warnings: 0