Package: heatmaps Version: 1.30.0 Command: /Library/Frameworks/R.framework/Resources/bin/R CMD INSTALL heatmaps StartedAt: 2025-01-30 16:38:24 -0500 (Thu, 30 Jan 2025) EndedAt: 2025-01-30 16:38:44 -0500 (Thu, 30 Jan 2025) EllapsedTime: 20.1 seconds RetCode: 0 Status: OK