Package: heatmaps Version: 1.30.0 Command: /Library/Frameworks/R.framework/Resources/bin/R CMD check --install=check:heatmaps.install-out.txt --library=/Library/Frameworks/R.framework/Resources/library --no-vignettes --timings heatmaps_1.30.0.tar.gz StartedAt: 2025-01-31 04:59:07 -0500 (Fri, 31 Jan 2025) EndedAt: 2025-01-31 05:03:11 -0500 (Fri, 31 Jan 2025) EllapsedTime: 243.9 seconds RetCode: 0 Status: OK CheckDir: heatmaps.Rcheck Warnings: 0