Package: heatmaps Version: 1.30.0 Command: /Library/Frameworks/R.framework/Resources/bin/R CMD INSTALL heatmaps StartedAt: 2025-01-30 15:56:45 -0500 (Thu, 30 Jan 2025) EndedAt: 2025-01-30 15:57:24 -0500 (Thu, 30 Jan 2025) EllapsedTime: 39.0 seconds RetCode: 0 Status: OK