Package: heatmaps Version: 1.30.0 Command: /home/biocbuild/bbs-3.20-bioc/R/bin/R CMD INSTALL heatmaps StartedAt: 2025-01-30 15:31:32 -0500 (Thu, 30 Jan 2025) EndedAt: 2025-01-30 15:31:48 -0500 (Thu, 30 Jan 2025) EllapsedTime: 16.2 seconds RetCode: 0 Status: OK