Package: heatmaps Version: 1.30.0 Command: F:\biocbuild\bbs-3.20-bioc\R\bin\R.exe CMD check --no-multiarch --install=check:heatmaps.install-out.txt --library=F:\biocbuild\bbs-3.20-bioc\R\library --no-vignettes --timings heatmaps_1.30.0.tar.gz StartedAt: 2025-01-31 02:49:42 -0500 (Fri, 31 Jan 2025) EndedAt: 2025-01-31 02:52:05 -0500 (Fri, 31 Jan 2025) EllapsedTime: 143.5 seconds RetCode: 0 Status: OK CheckDir: heatmaps.Rcheck Warnings: 0