Package: heatmaps Version: 1.30.0 Command: F:\biocbuild\bbs-3.20-bioc\R\bin\R.exe CMD INSTALL heatmaps StartedAt: 2025-01-30 15:50:17 -0500 (Thu, 30 Jan 2025) EndedAt: 2025-01-30 15:50:58 -0500 (Thu, 30 Jan 2025) EllapsedTime: 41.0 seconds RetCode: 0 Status: OK