Package: heatmaps Version: 1.30.0 Command: /home/biocbuild/R/R/bin/R CMD INSTALL heatmaps StartedAt: 2025-01-30 20:39:18 -0000 (Thu, 30 Jan 2025) EndedAt: 2025-01-30 20:39:39 -0000 (Thu, 30 Jan 2025) EllapsedTime: 20.4 seconds RetCode: 0 Status: OK