Package: hermes
Version: 1.10.0
Command: /Library/Frameworks/R.framework/Resources/bin/R CMD check --install=check:hermes.install-out.txt --library=/Library/Frameworks/R.framework/Resources/library --no-vignettes --timings hermes_1.10.0.tar.gz
StartedAt: 2024-11-19 22:55:49 -0500 (Tue, 19 Nov 2024)
EndedAt: 2024-11-19 23:05:37 -0500 (Tue, 19 Nov 2024)
EllapsedTime: 588.4 seconds
RetCode: 0
Status: OK
CheckDir: hermes.Rcheck
Warnings: 0