Package: hermes Version: 1.10.0 Command: rm -rf hermes.buildbin-libdir && mkdir hermes.buildbin-libdir && /Users/biocbuild/BBS/utils/build-universal.sh hermes_1.10.0.tar.gz /Library/Frameworks/R.framework/Resources/bin/R hermes.buildbin-libdir StartedAt: 2025-02-04 13:08:09 -0500 (Tue, 04 Feb 2025) EndedAt: 2025-02-04 13:09:43 -0500 (Tue, 04 Feb 2025) EllapsedTime: 93.7 seconds RetCode: 0 Status: OK PackageFile: hermes_1.10.0.tgz PackageFileSize: 4.126 MiB