Package: hermes Version: 1.10.0 Command: /Library/Frameworks/R.framework/Resources/bin/R CMD check --install=check:hermes.install-out.txt --library=/Library/Frameworks/R.framework/Resources/library --no-vignettes --timings hermes_1.10.0.tar.gz StartedAt: 2025-02-04 04:51:06 -0500 (Tue, 04 Feb 2025) EndedAt: 2025-02-04 05:07:38 -0500 (Tue, 04 Feb 2025) EllapsedTime: 991.9 seconds RetCode: 0 Status: OK CheckDir: hermes.Rcheck Warnings: 0