Package: hermes Version: 1.10.0 Command: /home/biocbuild/bbs-3.20-bioc/R/bin/R CMD build --keep-empty-dirs --no-resave-data --md5 hermes StartedAt: 2025-02-03 17:46:31 -0500 (Mon, 03 Feb 2025) EndedAt: 2025-02-03 17:48:05 -0500 (Mon, 03 Feb 2025) EllapsedTime: 93.2 seconds RetCode: 0 Status: OK PackageFile: hermes_1.10.0.tar.gz PackageFileSize: 4.285 MiB