Package: hermes Version: 1.10.0 Command: /home/biocbuild/bbs-3.20-bioc/R/bin/R CMD INSTALL hermes StartedAt: 2025-02-03 15:35:45 -0500 (Mon, 03 Feb 2025) EndedAt: 2025-02-03 15:36:32 -0500 (Mon, 03 Feb 2025) EllapsedTime: 46.8 seconds RetCode: 0 Status: OK