Package: hermes Version: 1.10.0 Command: F:\biocbuild\bbs-3.20-bioc\R\bin\R.exe CMD check --no-multiarch --install=check:hermes.install-out.txt --library=F:\biocbuild\bbs-3.20-bioc\R\library --no-vignettes --timings hermes_1.10.0.tar.gz StartedAt: 2025-02-04 02:38:53 -0500 (Tue, 04 Feb 2025) EndedAt: 2025-02-04 02:48:09 -0500 (Tue, 04 Feb 2025) EllapsedTime: 555.7 seconds RetCode: 0 Status: OK CheckDir: hermes.Rcheck Warnings: 0