Package: hermes Version: 1.10.0 Command: F:\biocbuild\bbs-3.20-bioc\R\bin\R.exe CMD INSTALL hermes StartedAt: 2025-02-03 16:35:44 -0500 (Mon, 03 Feb 2025) EndedAt: 2025-02-03 16:37:09 -0500 (Mon, 03 Feb 2025) EllapsedTime: 85.1 seconds RetCode: 0 Status: OK