Package: hiAnnotator Version: 1.40.0 Command: F:\biocbuild\bbs-3.20-bioc\R\bin\R.exe CMD INSTALL hiAnnotator StartedAt: 2025-02-03 16:47:46 -0500 (Mon, 03 Feb 2025) EndedAt: 2025-02-03 16:48:53 -0500 (Mon, 03 Feb 2025) EllapsedTime: 66.6 seconds RetCode: 0 Status: OK