Package: hiReadsProcessor Version: 1.42.0 Command: rm -rf hiReadsProcessor.buildbin-libdir && mkdir hiReadsProcessor.buildbin-libdir && /Users/biocbuild/BBS/utils/build-universal.sh hiReadsProcessor_1.42.0.tar.gz /Library/Frameworks/R.framework/Resources/bin/R hiReadsProcessor.buildbin-libdir StartedAt: 2025-02-01 15:17:42 -0500 (Sat, 01 Feb 2025) EndedAt: 2025-02-01 15:18:31 -0500 (Sat, 01 Feb 2025) EllapsedTime: 48.8 seconds RetCode: 0 Status: OK PackageFile: hiReadsProcessor_1.42.0.tgz PackageFileSize: 2.999 MiB