Package: hiReadsProcessor Version: 1.42.0 Command: /Library/Frameworks/R.framework/Resources/bin/R CMD build --keep-empty-dirs --no-resave-data hiReadsProcessor StartedAt: 2025-01-30 19:51:59 -0500 (Thu, 30 Jan 2025) EndedAt: 2025-01-30 19:54:47 -0500 (Thu, 30 Jan 2025) EllapsedTime: 168.3 seconds RetCode: 0 Status: OK PackageFile: hiReadsProcessor_1.42.0.tar.gz PackageFileSize: 3.147 MiB