Package: hiReadsProcessor Version: 1.42.0 Command: /Library/Frameworks/R.framework/Resources/bin/R CMD check --install=check:hiReadsProcessor.install-out.txt --library=/Library/Frameworks/R.framework/Resources/library --no-vignettes --timings hiReadsProcessor_1.42.0.tar.gz StartedAt: 2025-01-31 05:08:24 -0500 (Fri, 31 Jan 2025) EndedAt: 2025-01-31 05:17:11 -0500 (Fri, 31 Jan 2025) EllapsedTime: 527.0 seconds RetCode: 0 Status: OK CheckDir: hiReadsProcessor.Rcheck Warnings: 0