Package: hiReadsProcessor Version: 1.42.0 Command: /home/biocbuild/bbs-3.20-bioc/R/bin/R CMD INSTALL hiReadsProcessor StartedAt: 2025-01-30 15:22:34 -0500 (Thu, 30 Jan 2025) EndedAt: 2025-01-30 15:23:13 -0500 (Thu, 30 Jan 2025) EllapsedTime: 38.5 seconds RetCode: 0 Status: OK