Package: hicVennDiagram Version: 1.4.0 Command: /Library/Frameworks/R.framework/Resources/bin/R CMD INSTALL hicVennDiagram StartedAt: 2024-11-19 15:24:24 -0500 (Tue, 19 Nov 2024) EndedAt: 2024-11-19 15:25:11 -0500 (Tue, 19 Nov 2024) EllapsedTime: 47.3 seconds RetCode: 0 Status: OK