Package: hicVennDiagram Version: 1.4.0 Command: /Library/Frameworks/R.framework/Resources/bin/R CMD check --install=check:hicVennDiagram.install-out.txt --library=/Library/Frameworks/R.framework/Resources/library --no-vignettes --timings hicVennDiagram_1.4.0.tar.gz StartedAt: 2025-02-04 04:54:50 -0500 (Tue, 04 Feb 2025) EndedAt: 2025-02-04 05:03:37 -0500 (Tue, 04 Feb 2025) EllapsedTime: 527.3 seconds RetCode: 0 Status: OK CheckDir: hicVennDiagram.Rcheck Warnings: 0