Package: hicVennDiagram Version: 1.4.0 Command: /home/biocbuild/bbs-3.20-bioc/R/bin/R CMD INSTALL hicVennDiagram StartedAt: 2025-02-03 15:38:25 -0500 (Mon, 03 Feb 2025) EndedAt: 2025-02-03 15:38:59 -0500 (Mon, 03 Feb 2025) EllapsedTime: 34.0 seconds RetCode: 0 Status: OK