Package: hicVennDiagram Version: 1.4.0 Command: F:\biocbuild\bbs-3.20-bioc\R\bin\R.exe CMD INSTALL hicVennDiagram StartedAt: 2025-02-03 16:29:32 -0500 (Mon, 03 Feb 2025) EndedAt: 2025-02-03 16:30:47 -0500 (Mon, 03 Feb 2025) EllapsedTime: 75.3 seconds RetCode: 0 Status: OK