Package: hicVennDiagram Version: 1.4.0 Command: /home/biocbuild/R/R/bin/R CMD check --install=check:hicVennDiagram.install-out.txt --library=/home/biocbuild/R/R/site-library --no-vignettes --timings hicVennDiagram_1.4.0.tar.gz StartedAt: 2025-02-04 07:49:42 -0000 (Tue, 04 Feb 2025) EndedAt: 2025-02-04 07:54:56 -0000 (Tue, 04 Feb 2025) EllapsedTime: 314.2 seconds RetCode: 0 Status: OK CheckDir: hicVennDiagram.Rcheck Warnings: 0