Package: hierinf Version: 1.24.0 Command: /Library/Frameworks/R.framework/Resources/bin/R CMD check --install=check:hierinf.install-out.txt --library=/Library/Frameworks/R.framework/Resources/library --no-vignettes --timings hierinf_1.24.0.tar.gz StartedAt: 2024-11-09 04:29:01 -0500 (Sat, 09 Nov 2024) EndedAt: 2024-11-09 04:33:50 -0500 (Sat, 09 Nov 2024) EllapsedTime: 288.8 seconds RetCode: 0 Status: OK CheckDir: hierinf.Rcheck Warnings: 0