Package: hierinf Version: 1.24.0 Command: /Library/Frameworks/R.framework/Resources/bin/R CMD build --keep-empty-dirs --no-resave-data hierinf StartedAt: 2025-02-03 19:36:22 -0500 (Mon, 03 Feb 2025) EndedAt: 2025-02-03 19:39:15 -0500 (Mon, 03 Feb 2025) EllapsedTime: 173.1 seconds RetCode: 0 Status: OK PackageFile: hierinf_1.24.0.tar.gz PackageFileSize: 432.2 KiB