Package: hipathia Version: 3.6.0 Command: rm -rf hipathia.buildbin-libdir && mkdir hipathia.buildbin-libdir && /Users/biocbuild/BBS/utils/build-universal.sh hipathia_3.6.0.tar.gz /Library/Frameworks/R.framework/Resources/bin/R hipathia.buildbin-libdir StartedAt: 2025-02-01 15:17:36 -0500 (Sat, 01 Feb 2025) EndedAt: 2025-02-01 15:18:24 -0500 (Sat, 01 Feb 2025) EllapsedTime: 47.7 seconds RetCode: 0 Status: OK PackageFile: hipathia_3.6.0.tgz PackageFileSize: 7.667 MiB