Package: hipathia Version: 3.6.0 Command: /Library/Frameworks/R.framework/Resources/bin/R CMD check --install=check:hipathia.install-out.txt --library=/Library/Frameworks/R.framework/Resources/library --no-vignettes --timings hipathia_3.6.0.tar.gz StartedAt: 2025-01-31 22:00:40 -0500 (Fri, 31 Jan 2025) EndedAt: 2025-01-31 22:19:02 -0500 (Fri, 31 Jan 2025) EllapsedTime: 1102.2 seconds RetCode: 0 Status: OK CheckDir: hipathia.Rcheck Warnings: 0