Package: hipathia Version: 3.6.0 Command: /Library/Frameworks/R.framework/Resources/bin/R CMD INSTALL hipathia StartedAt: 2025-01-30 18:12:51 -0500 (Thu, 30 Jan 2025) EndedAt: 2025-01-30 18:13:35 -0500 (Thu, 30 Jan 2025) EllapsedTime: 43.7 seconds RetCode: 0 Status: OK