Package: hipathia Version: 3.6.0 Command: rm -rf hipathia.buildbin-libdir && mkdir hipathia.buildbin-libdir && /Users/biocbuild/BBS/utils/build-universal.sh hipathia_3.6.0.tar.gz /Library/Frameworks/R.framework/Resources/bin/R hipathia.buildbin-libdir StartedAt: 2025-01-31 12:58:36 -0500 (Fri, 31 Jan 2025) EndedAt: 2025-01-31 12:59:58 -0500 (Fri, 31 Jan 2025) EllapsedTime: 81.5 seconds RetCode: 0 Status: OK PackageFile: hipathia_3.6.0.tgz PackageFileSize: 7.668 MiB