Package: hipathia Version: 3.6.0 Command: /Library/Frameworks/R.framework/Resources/bin/R CMD build --keep-empty-dirs --no-resave-data hipathia StartedAt: 2025-01-30 19:51:48 -0500 (Thu, 30 Jan 2025) EndedAt: 2025-01-30 20:12:19 -0500 (Thu, 30 Jan 2025) EllapsedTime: 1231.1 seconds RetCode: 0 Status: OK PackageFile: hipathia_3.6.0.tar.gz PackageFileSize: 7.767 MiB