Package: hipathia Version: 3.6.0 Command: /home/biocbuild/bbs-3.20-bioc/R/bin/R CMD build --keep-empty-dirs --no-resave-data --md5 hipathia StartedAt: 2025-01-30 17:39:22 -0500 (Thu, 30 Jan 2025) EndedAt: 2025-01-30 17:46:20 -0500 (Thu, 30 Jan 2025) EllapsedTime: 417.6 seconds RetCode: 0 Status: OK PackageFile: hipathia_3.6.0.tar.gz PackageFileSize: 7.77 MiB