Package: hipathia Version: 3.6.0 Command: chmod a+r hipathia -R && F:\biocbuild\bbs-3.20-bioc\R\bin\R.exe CMD build --keep-empty-dirs --no-resave-data hipathia StartedAt: 2025-01-30 19:29:55 -0500 (Thu, 30 Jan 2025) EndedAt: 2025-01-30 19:44:37 -0500 (Thu, 30 Jan 2025) EllapsedTime: 881.8 seconds RetCode: 0 Status: OK PackageFile: hipathia_3.6.0.tar.gz PackageFileSize: 7.76 MiB