Package: hipathia Version: 3.6.0 Command: F:\biocbuild\bbs-3.20-bioc\R\bin\R.exe CMD INSTALL hipathia StartedAt: 2025-01-30 16:53:48 -0500 (Thu, 30 Jan 2025) EndedAt: 2025-01-30 16:56:03 -0500 (Thu, 30 Jan 2025) EllapsedTime: 135.0 seconds RetCode: 0 Status: OK